BEGIN:VCALENDAR
VERSION:2.0
PRODID:-//Denise Pass - ECPv6.15.20//NONSGML v1.0//EN
CALSCALE:GREGORIAN
METHOD:PUBLISH
X-ORIGINAL-URL:https://denisepass.com
X-WR-CALDESC:Events for Denise Pass
REFRESH-INTERVAL;VALUE=DURATION:PT1H
X-Robots-Tag:noindex
X-PUBLISHED-TTL:PT1H
BEGIN:VTIMEZONE
TZID:America/New_York
BEGIN:DAYLIGHT
TZOFFSETFROM:-0500
TZOFFSETTO:-0400
TZNAME:EDT
DTSTART:20160313T070000
END:DAYLIGHT
BEGIN:STANDARD
TZOFFSETFROM:-0400
TZOFFSETTO:-0500
TZNAME:EST
DTSTART:20161106T060000
END:STANDARD
BEGIN:DAYLIGHT
TZOFFSETFROM:-0500
TZOFFSETTO:-0400
TZNAME:EDT
DTSTART:20170312T070000
END:DAYLIGHT
BEGIN:STANDARD
TZOFFSETFROM:-0400
TZOFFSETTO:-0500
TZNAME:EST
DTSTART:20171105T060000
END:STANDARD
BEGIN:DAYLIGHT
TZOFFSETFROM:-0500
TZOFFSETTO:-0400
TZNAME:EDT
DTSTART:20180311T070000
END:DAYLIGHT
BEGIN:STANDARD
TZOFFSETFROM:-0400
TZOFFSETTO:-0500
TZNAME:EST
DTSTART:20181104T060000
END:STANDARD
BEGIN:DAYLIGHT
TZOFFSETFROM:-0500
TZOFFSETTO:-0400
TZNAME:EDT
DTSTART:20190310T070000
END:DAYLIGHT
BEGIN:STANDARD
TZOFFSETFROM:-0400
TZOFFSETTO:-0500
TZNAME:EST
DTSTART:20191103T060000
END:STANDARD
BEGIN:DAYLIGHT
TZOFFSETFROM:-0500
TZOFFSETTO:-0400
TZNAME:EDT
DTSTART:20200308T070000
END:DAYLIGHT
BEGIN:STANDARD
TZOFFSETFROM:-0400
TZOFFSETTO:-0500
TZNAME:EST
DTSTART:20201101T060000
END:STANDARD
BEGIN:DAYLIGHT
TZOFFSETFROM:-0500
TZOFFSETTO:-0400
TZNAME:EDT
DTSTART:20210314T070000
END:DAYLIGHT
BEGIN:STANDARD
TZOFFSETFROM:-0400
TZOFFSETTO:-0500
TZNAME:EST
DTSTART:20211107T060000
END:STANDARD
END:VTIMEZONE
BEGIN:VEVENT
DTSTART;TZID=America/New_York:20200327T180000
DTEND;TZID=America/New_York:20200328T100000
DTSTAMP:20260421T075332
CREATED:20190805T010542Z
LAST-MODIFIED:20200215T222600Z
UID:32579-1585332000-1585389600@denisepass.com
SUMMARY:Beautifully Rooted Women's Conference
DESCRIPTION:Speaker/Author of Shame Off You\, and 31 Days to Hope Reinvented\, Denise Pass will be the worship leader with her band and the keynote speaker for the Beautifully Rooted Women’s conference at Vansant Baptist Church\, Vansant\, VA. \nConfusion comes in when our definition of good does not fit God’s. Burdens of this life can steal our hope and thrust us into a place of surviving instead of thriving. \nHope does not come easily in a fallen world. But the promises of God still stand when hope fails. In the place of suffering and disbelief\, even disillusionment – we can choose to not just survive\, but thrive\, even delight in God – Who meets us in the arid places of our lives with a new hope that is no longer dependent upon our circumstances. \n• Discern where their hope lies. \n• Recognize and expose false hopes and address them biblically. \n• Discover the hope God has for them and learn how to hope again. \n• Heal crushed hopes and their view of God when hope fails. \n• Replace broken hope with new hope that God has for them. \nWhen: March 27\, 2020\, 6:00pm – March 28\, 2020\, 10:00am
URL:https://denisepass.com/event/beautifully-rooted-womens-conference/
LOCATION:Vansant Baptist Church\, 1471 Lovers Gap Rd.\, Vansant\, VA\, 24656
CATEGORIES:Hope Reinvented,Speaking,Worship Leading
ATTACH;FMTTYPE=image/png:https://denisepass.com/wp-content/uploads/2019/08/Beautifully-Rooted-Womens-Conference.png
END:VEVENT
BEGIN:VEVENT
DTSTART;TZID=America/New_York:20180911T180000
DTEND;TZID=America/New_York:20180911T200000
DTSTAMP:20260421T075332
CREATED:20180428T014714Z
LAST-MODIFIED:20180428T020850Z
UID:29029-1536688800-1536696000@denisepass.com
SUMMARY:Hope Reinvented
DESCRIPTION:Denise will be the keynote speaker for a revival at White Hill Church of the Brethren. In a world that seems hopeless\, our hope stands firm when it is in Christ alone. \nHope – an anchor for the soul\, is often hooked on temporal things. Continually on a quest for this yearning within us\, our soul’s hunger for the moment our hopes are realized. But what really is hope and what happens when the hopes we have died? We are taught to dream and hope\, but not taught how to hope. Seems like an obvious\, automatic human behavior\, but this world’s idea of hope is not to hope at all. We tend to fill our hopes with lesser things that perish; misplaced goals that are anchored in the comfort and happiness of this world. \nWhen our hope is unfulfilled or crushed\,  we can become disillusioned and may try to resolve this pain with coping mechanisms or by striving to attain on our own the hope we desire. We can blame God and feel entitled to the hope we thought we had. We might even try to placate this deep unmet longing within us and numb ourselves to\nthe painful reality that we have lost our hope or maybe we never really ha dit in the first place. God has so much more in mind for us. \nWhat if our idea of hope that has been handed down to us is in the wrong place? What if our desire for a perfect\, happy life leaves our faith in a vulnerable state in this fallen world? Sometimes the life WE had planned is interrupted by tragic circumstances that leave us broken and hopeless. This is where Hope Reinvented is a healing balm to those afflicted with a seemingly hopeless life. \nWhen life hurts\, we need real answers that help to heal our broken hope.  God ’s word supplies the answers\, which are not just a simple answer of self-denial. God wants to bless us and restore a hope to us – His hope. It is deeper and more satisfying than our hope ever could be and it does not require “faking our faith” to try and cover our hurt. \nFinding hope during suffering is not just about coping\, but about reinventing our idea of hope and navigating through disillusionment\, by way of a grief process to find real hope in God’s sovereignty and character
URL:https://denisepass.com/event/hope-reinvented-2/
LOCATION:VA
CATEGORIES:Hope Reinvented,Speaking
ATTACH;FMTTYPE=image/png:https://denisepass.com/wp-content/uploads/2018/03/Hope-Reinventeed-website-carousel-1.png
END:VEVENT
BEGIN:VEVENT
DTSTART;TZID=America/New_York:20180907T080000
DTEND;TZID=America/New_York:20180909T090000
DTSTAMP:20260421T075332
CREATED:20180208T231732Z
LAST-MODIFIED:20180330T020556Z
UID:15739-1536307200-1536483600@denisepass.com
SUMMARY:Hope Reinvented Women's Retreat
DESCRIPTION:Join Denise Pass\, author\, speaker and worship leader as the keynote speaker and worship leader for the Liberty Baptist Women’s Retreat as we Reinvent the Hope that God has for us.\n\nHope does not come easily in a fallen world. But the promises of God still stand when hope fails. In the place of suffering and disbelief\, even disillusionment – we can choose to not just survive\, but thrive\, even delight in God – Who meets us in the arid places of our lives with a new hope that is no longer dependent upon our circumstances.\n\nWhen?   September 7-9\, 2018.\nWhere?  Massanetta Springs Retreat Center in Harrisonburg\, VA.\nWhat?    $150 for lodging and all meals for the conference and weekend.\nFor details and to Register for this event\, click here.\n\nSave the Date now! Cost covers two nights in hotel style/dorm accommodations with all meals/snacks/drinks provided. First deposit is due March 31. There are currently 47 spots available! “Hope” to see you there! 🙂
URL:https://denisepass.com/event/hope-reinvented-womens-retreat/
LOCATION:VA
CATEGORIES:Hope Reinvented,Speaking,Worship Leading
ATTACH;FMTTYPE=image/png:https://denisepass.com/wp-content/uploads/2018/03/Hope-Reinventeed-website-carousel-1.png
END:VEVENT
BEGIN:VEVENT
DTSTART;TZID=America/New_York:20180428T090000
DTEND;TZID=America/New_York:20180428T130000
DTSTAMP:20260421T075332
CREATED:20180330T015519Z
LAST-MODIFIED:20180330T015655Z
UID:28799-1524906000-1524920400@denisepass.com
SUMMARY:Hope Reinvented Women's Event
DESCRIPTION:Denise will be speaking and leading worship on the topic of Hope Reinvented for a women’s group at the Village Church in Culpeper\, VA. God has a hope for us that far surpasses any hope this world affords.
URL:https://denisepass.com/event/hope-reinvented-womens-event/
LOCATION:VA
CATEGORIES:Hope Reinvented,Speaking,Worship Leading
ATTACH;FMTTYPE=image/png:https://denisepass.com/wp-content/uploads/2018/03/Hope-Reinventeed-website-carousel-1.png
END:VEVENT
BEGIN:VEVENT
DTSTART;TZID=America/New_York:20180223T190000
DTEND;TZID=America/New_York:20180225T130000
DTSTAMP:20260421T075332
CREATED:20180130T184442Z
LAST-MODIFIED:20220721T115600Z
UID:15655-1519412400-1519563600@denisepass.com
SUMMARY:Reinventing our Hope\, Identity and Worth through the I AM statements of Christ
DESCRIPTION:Denise Pass is the keynote speaker and worship leader for this conference of renewal at the beginning of the Lenten Season. \n\nHave you ever felt your worth was limited to your abilities or successes?\nDo you lack hope as you consider who you are in a messy life?\nDo you struggle to find your identity in an identity-confused world?\n\nThe I AM Statements of Christ were a lot more than words. They offer life and renewal to those willing to listen. As Christ revealed His identity to His followers\, He was inviting us to find our identity in Him. \nI AM is all we need. Come and find yourself in Him. \nRegister at this link. \n_______________________________________________________________________________ \nFebruary 23\, 2018 \n7:00pm – Worship \n7:30pm – Session One: Reinventing our Hope and Identity through God’s Goodness (I AM the Good Shepherd) \n8:00pm – Closing worship \n8:15pm – Dessert and fellowship in the Fellowship Hall \nFebruary 24\, 2018 \n8:30am – Coffee/Breakfast \n9:00am – Worship \n9:30am – Session Two: Redefining Our Identity through Christ’s Righteousness (I AM the Light of the World) \n10:15am – Small Group Breakout Session: Revelation in the Dark \n10:30am – Session Three: Restoring our Worth and Identity through Christ’s Resurrection (I AM the Resurrection and the Life) \n11:15am – Worship \n11:30am – Break \n11:45am – Small Group Breakout Session: Adopting Our New Identity \n12:30pm – BBQ Lunch \nFebruary 25\, 2018 \nSession Four: Relishing and Being Satisfied with Who We are in Christ (I AM the Bread of Life) \n 
URL:https://denisepass.com/event/reinventing-our-hope-identity-and-worth-through-the-i-am-statements-of-christ/
LOCATION:VA
CATEGORIES:Hope Reinvented,Speaking,Worship Leading
ATTACH;FMTTYPE=image/jpeg:https://denisepass.com/wp-content/uploads/2018/01/Untitled-design-9.jpg
END:VEVENT
BEGIN:VEVENT
DTSTART;TZID=America/New_York:20171205T190000
DTEND;TZID=America/New_York:20171205T210000
DTSTAMP:20260421T075332
CREATED:20171026T152656Z
LAST-MODIFIED:20171205T121703Z
UID:15016-1512500400-1512507600@denisepass.com
SUMMARY:Women's Event: Unending Hope at Christmas
DESCRIPTION:Feeling stressed about all you have to do and worried you won’t meet the expectations you have for Christmas? Find a different expectation hidden in Christ this Christmas. Denise Pass is sharing a message called\, “Finding Enduring Hope at Christmas and All year Through” at Maysville Baptist Church’s Women’s Ornament Exchange. Come and be changed and discover hope anew this Christmas.
URL:https://denisepass.com/event/unending-hope-christmas/
LOCATION:VA
CATEGORIES:Hope Reinvented,Speaking
END:VEVENT
BEGIN:VEVENT
DTSTART;TZID=America/New_York:20170805T090000
DTEND;TZID=America/New_York:20170805T140000
DTSTAMP:20260421T075332
CREATED:20170805T022328Z
LAST-MODIFIED:20170805T022328Z
UID:14346-1501923600-1501941600@denisepass.com
SUMMARY:Higher Praise Christian Ministries Women's Conference
DESCRIPTION:Denise will be speaking on three messages on the topic of Hope Reinvented. \nShe will be leading worship along with her band\, Seeing Deep\, \n  \n 
URL:https://denisepass.com/event/higher-praise-christian-ministries-womens-conference/
LOCATION:VA
CATEGORIES:Hope Reinvented,Worship Leading
ATTACH;FMTTYPE=image/jpeg:https://denisepass.com/wp-content/uploads/2017/08/20139753_1265244006917419_2320722194292630185_n.jpg
END:VEVENT
BEGIN:VEVENT
DTSTART;TZID=America/New_York:20170610T103000
DTEND;TZID=America/New_York:20170610T160000
DTSTAMP:20260421T075332
CREATED:20170510T151257Z
LAST-MODIFIED:20170510T151257Z
UID:14002-1497090600-1497110400@denisepass.com
SUMMARY:Hope Reinvented for Moms - Women's Luncheon
DESCRIPTION:Denise will be the speaker and worship leader for a women’s luncheon. \nWhen: June 10\, 2017 \nWhat: 10:30 am service and 2:00 pm Women’s Luncheon \nWhere: Fredericksburg\, VA \nTopic: “The Hand that Rocks the Cradle: Hope for Moms in Christ” \n 
URL:https://denisepass.com/event/womens-luncheon/
LOCATION:VA
CATEGORIES:Hope Reinvented,Worship Leading
ATTACH;FMTTYPE=image/png:https://denisepass.com/wp-content/uploads/2017/05/Womens-Conference.png
END:VEVENT
END:VCALENDAR