BEGIN:VCALENDAR
VERSION:2.0
PRODID:-//Denise Pass - ECPv6.15.20//NONSGML v1.0//EN
CALSCALE:GREGORIAN
METHOD:PUBLISH
X-ORIGINAL-URL:https://denisepass.com
X-WR-CALDESC:Events for Denise Pass
REFRESH-INTERVAL;VALUE=DURATION:PT1H
X-Robots-Tag:noindex
X-PUBLISHED-TTL:PT1H
BEGIN:VTIMEZONE
TZID:America/New_York
BEGIN:DAYLIGHT
TZOFFSETFROM:-0500
TZOFFSETTO:-0400
TZNAME:EDT
DTSTART:20180311T070000
END:DAYLIGHT
BEGIN:STANDARD
TZOFFSETFROM:-0400
TZOFFSETTO:-0500
TZNAME:EST
DTSTART:20181104T060000
END:STANDARD
BEGIN:DAYLIGHT
TZOFFSETFROM:-0500
TZOFFSETTO:-0400
TZNAME:EDT
DTSTART:20190310T070000
END:DAYLIGHT
BEGIN:STANDARD
TZOFFSETFROM:-0400
TZOFFSETTO:-0500
TZNAME:EST
DTSTART:20191103T060000
END:STANDARD
BEGIN:DAYLIGHT
TZOFFSETFROM:-0500
TZOFFSETTO:-0400
TZNAME:EDT
DTSTART:20200308T070000
END:DAYLIGHT
BEGIN:STANDARD
TZOFFSETFROM:-0400
TZOFFSETTO:-0500
TZNAME:EST
DTSTART:20201101T060000
END:STANDARD
BEGIN:DAYLIGHT
TZOFFSETFROM:-0500
TZOFFSETTO:-0400
TZNAME:EDT
DTSTART:20210314T070000
END:DAYLIGHT
BEGIN:STANDARD
TZOFFSETFROM:-0400
TZOFFSETTO:-0500
TZNAME:EST
DTSTART:20211107T060000
END:STANDARD
BEGIN:DAYLIGHT
TZOFFSETFROM:-0500
TZOFFSETTO:-0400
TZNAME:EDT
DTSTART:20220313T070000
END:DAYLIGHT
BEGIN:STANDARD
TZOFFSETFROM:-0400
TZOFFSETTO:-0500
TZNAME:EST
DTSTART:20221106T060000
END:STANDARD
END:VTIMEZONE
BEGIN:VEVENT
DTSTART;TZID=America/New_York:20211105T080000
DTEND;TZID=America/New_York:20211106T170000
DTSTAMP:20260421T092313
CREATED:20211109T042801Z
LAST-MODIFIED:20211109T042801Z
UID:46997-1636099200-1636218000@denisepass.com
SUMMARY:Transformed—Overcoming Negative Mindsets and Walking in Freedom
DESCRIPTION:Life can leave us broken. But there is a place of peace in the chaos. Transforming our mind is made difficult by negative mindsets but not impossible. We can be transformed—overcoming negative mindsets through the mind of Christ. \nJoin us for this women’s conference online on November 5-6\, in Maysville\, Kentucky. Denise will be a speaker presenting on “Transformed—Overcoming Negative Mindsets through the Mind of Christ”. \nWe were meant to live an abundant life and it begins with our thoughts. What we think matters and affects what we do and say. “Be careful how you think; your life is shaped by your thoughts” (Proverbs 4:23\, GNT). \nWe don’t have to be a victim of our circumstances. Christ is our refuge and our strength and we have the mind of Christ to help us overcome. “For who has understood the mind of the Lord so as to instruct him? But we have the mind of Christ” (1 Corinthians 2:16\, ESV). \nGod wants to transform us from the inside out.  Don’t miss His rescue that starts in the mind! \nMore details coming soon!
URL:https://denisepass.com/event/transformed-overcoming-negative-mindsets-and-walking-in-freedom/
CATEGORIES:Identity,Make Up Your Mind
ATTACH;FMTTYPE=image/jpeg:https://denisepass.com/wp-content/uploads/2021/08/Part-2-Transformed-Womens-Conference.jpg
END:VEVENT
BEGIN:VEVENT
DTSTART;VALUE=DATE:20210821
DTEND;VALUE=DATE:20210822
DTSTAMP:20260421T092313
CREATED:20210623T175828Z
LAST-MODIFIED:20210623T194846Z
UID:46783-1629504000-1629590399@denisepass.com
SUMMARY:Finding Refuge through our Mindset
DESCRIPTION:Like can leave us broken. But there is a place of peace in the chaos. Finding refuge through our mindset helps us to rise above and walk in Victory! \nJoin us for this women’s conference online on August 21st\, hosted by Author Jennifer Elwood. Denise will be a speaker presenting on “Finding Refuge in Christ through our Mindset” \nWe were meant to live an abundant life and it begins with our thoughts. What we think matters and affects what we do and say. “Be careful how you think; your life is shaped by your thoughts” (Proverbs 4:23\, GNT). \nWe don’t have to be a victim of our circumstances. Christ is our refuge and our strength and we have the mind of Christ to help us overcome. “For who has understood the mind of the Lord so as to instruct him? But we have the mind of Christ” (1 Corinthians 2:16\, ESV). \nGod has a refuge for us today. Join us for this one-day\, online retreat encouraging women to cultivate peace through challenging seasons in the shelter of God’s Word. \nMore details coming soon! \n 
URL:https://denisepass.com/event/finding-refuge-through-our-mindset/
CATEGORIES:Identity,Make Up Your Mind
ATTACH;FMTTYPE=image/jpeg:https://denisepass.com/wp-content/uploads/2021/06/Refuge-Conference-Teaser-2.jpg
END:VEVENT
BEGIN:VEVENT
DTSTART;TZID=America/New_York:20191203T180000
DTEND;TZID=America/New_York:20191203T200000
DTSTAMP:20260421T092313
CREATED:20190814T200806Z
LAST-MODIFIED:20190814T200806Z
UID:32890-1575396000-1575403200@denisepass.com
SUMMARY:Christmas Tea: Finding Our Identity in the Nativity
DESCRIPTION:Denise will be the keynote speaker for a women’s special event: \nWhat: Christmas Tea: Finding Our Identity in the Nativity—Living Out Our Identity in Christ \nWhere: Hilltown Baptist Church\, Hilltown PA \nWhen: December 3\, 2019; 6:00pm – 8:00pm ET \n 
URL:https://denisepass.com/event/christmas-tea-finding-our-identity-in-the-nativity/
CATEGORIES:Christmas,Identity,Speaking,Tea,Women's Event
ATTACH;FMTTYPE=image/png:https://denisepass.com/wp-content/uploads/2019/08/Christmas-1.png
END:VEVENT
END:VCALENDAR